BEGIN:VCALENDAR
VERSION:2.0
PRODID:-//Library Market//iCal Export//EN
BEGIN:VEVENT
SUMMARY:Amendments August
UID:58125
DTSTAMP:20260419T184100Z
DTSTART:20260827T231500Z
DTEND:20260828T004500Z
LOCATION:Mammen Family Public Library, 131 Bulverde Crossing, Bulverde, TX
  78163, United States
ROOM: Meeting Room C
DESCRIPTION:This August, join us for our series delving into the Constitut
 ion&#039;s amendments! Richard Caldecott, a retired lawyer and professor a
 nd instructor of the library&#039;s July Constitution Crash Course, presen
 ts his expertise on the history and structure of our democracy&#039;s fund
 amental document. Learn about the Constitution&#039;s amendment process, a
 s well as the meaning behind the amendments from the first to the most rec
 ent additions.
URL:https://mammen.librarycalendar.com/event/amendments-august-58125
END:VEVENT
END:VCALENDAR
