BEGIN:VCALENDAR
VERSION:2.0
PRODID:-//Library Market//iCal Export//EN
BEGIN:VEVENT
SUMMARY:MineCRAFT Night
UID:57910
DTSTAMP:20260419T163600Z
DTSTART:20260827T220000Z
DTEND:20260828T000000Z
LOCATION:131 Bulverde Crossing, Bulverde, TX 78163, United States
ROOM: Meeting Room B
DESCRIPTION:Adults, engage your inner child in the world of Minecraft! Com
 e listen to Minecraft-inspired music and make Minecraft inspired decor for
  the home. We won&#039;t be playing the game, but we will be deep in Minec
 raft nostalgia, so come chill with us.
URL:https://mammen.librarycalendar.com/event/minecraft-night-57910
END:VEVENT
END:VCALENDAR
