BEGIN:VCALENDAR
VERSION:2.0
PRODID:-//Library Market//iCal Export//EN
BEGIN:VEVENT
SUMMARY:Triple Two-Step Dance Series
UID:55034
DTSTAMP:20260420T100600Z
DTSTART:20260721T231500Z
DTEND:20260722T004500Z
LOCATION:Mammen Family Public Library, 131 Bulverde Crossing, Bulverde, TX
  78163, United States
ROOM: Rooms A, B, &amp; C combined
DESCRIPTION:Join instructor Debra for a four part dance class this summer!
  This July, on Tuesday evenings, we will spend four weeks learning the Tri
 ple Two-Step.Attendance to all four weeks is required as each class will b
 uild upon what we learned the week prior.  ** Please note: This is a ver
 y active dance, requiring stamina as well as the ability to move quickly. 
 If you feel you may have difficulty participating, we encourage you to att
 end one of our other dance classes instead! ** Participants are highly en
 couraged to bring a dance partner with them to ensure you have a partner t
 o dance with. We ask that all attendees wear tennis shoes and clothes you 
 can freely move in. Please register each attendee individually. Boots or h
 eels are not recommended for our dance classes. 
URL:https://mammen.librarycalendar.com/event/dance-series-55034
END:VEVENT
END:VCALENDAR
