BEGIN:VCALENDAR
VERSION:2.0
PRODID:-//Library Market//iCal Export//EN
BEGIN:VEVENT
SUMMARY:Applied Planting &amp; Pruning: Water Conservation Series
UID:54965
DTSTAMP:20260421T170000Z
DTSTART:20260831T170000Z
DTEND:20260831T183000Z
LOCATION:United States
ROOM: Meeting rooms A &amp; B combined
DESCRIPTION:Water Conservation SeriesThis applied workshop will focus on t
 he essentials of when and how to prune trees and shrubs. We’ll cover—a
 nd you’ll make—proper pruning cuts, we’ll discuss different forms of
  pruning, and most importantly, pruning plants at the correct time.This se
 ssion is part of the Water Conservation Series, presented in partnership w
 ith Dr. Steven Grainger and Dr. Larry Sunn, rain harvesting consultants wi
 th Rain Bees. These workshops were developed in response to common questi
 ons and concerns about various topics related to water conservation, rain 
 gardens, grass, water quality, pollinators, planting &amp; pruning, and ec
 ological issues. The workshops provide overviews (with questions and answe
 rs) for Hill Country residents to better understand water conservation nee
 ds. The 14 sessions in this weekly series take place on Mondays from 12:0
 0pm to 1:30pm beginning June 8th and ending in September. Feel free to br
 ing your lunch while you learn about ways we all can protect our precious 
 water sources!By registering for this event, you will be registered for al
 l of the sessions in this series and will receive an email reminder the da
 y before each session. Join us for all sessions in this series or just th
 e sessions that interest you!
URL:https://mammen.librarycalendar.com/event/water-conservation-series-549
 65
END:VEVENT
END:VCALENDAR
