BEGIN:VCALENDAR
VERSION:2.0
PRODID:-//Library Market//iCal Export//EN
BEGIN:VEVENT
SUMMARY:Trees &amp; Bushes: Water Conservation Series
UID:54964
DTSTAMP:20260421T170000Z
DTSTART:20260824T170000Z
DTEND:20260824T183000Z
LOCATION:United States
ROOM: Meeting rooms A &amp; B combined
DESCRIPTION:Water Conservation SeriesThis workshop is about trees and bush
 es, their differences and similarities, as well as structural nuances that
  require different care techniques. Our introduction to pruning strategies
  sets us up for applying the techniques in class in the next session.This 
 session is part of the Water Conservation Series, presented in partnership
  with Dr. Steven Grainger and Dr. Larry Sunn, rain harvesting consultants 
 with Rain Bees. These workshops were developed in response to common ques
 tions and concerns about various topics related to water conservation, rai
 n gardens, grass, water quality, pollinators, planting &amp; pruning, and 
 ecological issues. The workshops provide overviews (with questions and ans
 wers) for Hill Country residents to better understand water conservation n
 eeds. The 14 sessions in this weekly series take place on Mondays from 12
 :00pm to 1:30pm beginning June 8th and ending in September. Feel free to 
 bring your lunch while you learn about ways we all can protect our preciou
 s water sources!By registering for this event, you will be registered for 
 all of the sessions in this series and will receive an email reminder the 
 day before each session. Join us for all sessions in this series or just 
 the sessions that interest you!
URL:https://mammen.librarycalendar.com/event/water-conservation-series-549
 64
END:VEVENT
END:VCALENDAR
