BEGIN:VCALENDAR
VERSION:2.0
PRODID:-//Library Market//iCal Export//EN
BEGIN:VEVENT
SUMMARY:Composting: Water Conservation Series
UID:54963
DTSTAMP:20260423T031300Z
DTSTART:20260817T170000Z
DTEND:20260817T183000Z
LOCATION:United States
ROOM: Meeting rooms A &amp; B combined
DESCRIPTION:Water Conservation SeriesCompost is a natural, dark brown, hum
 us-rich material formed from the decomposition or breakdown of organic mat
 erials such as leaves, grass clippings, and vegetable food scraps. Procedu
 res for composting are discussed, along with options for establishing a co
 mpost container, bin, or pile.This session is part of the Water Conservati
 on Series, presented in partnership with Dr. Steven Grainger and Dr. Larry
  Sunn, rain harvesting consultants with Rain Bees. These workshops were d
 eveloped in response to common questions and concerns about various topics
  related to water conservation, rain gardens, grass, water quality, pollin
 ators, planting &amp; pruning, and ecological issues. The workshops provid
 e overviews (with questions and answers) for Hill Country residents to bet
 ter understand water conservation needs. The 14 sessions in this weekly s
 eries take place on Mondays from 12:00pm to 1:30pm beginning June 8th and 
 ending in September. Feel free to bring your lunch while you learn about 
 ways we all can protect our precious water sources!By registering for this
  event, you will be registered for all of the sessions in this series and 
 will receive an email reminder the day before each session. Join us for a
 ll sessions in this series or just the sessions that interest you!
URL:https://mammen.librarycalendar.com/event/water-conservation-series-549
 63
END:VEVENT
END:VCALENDAR
