BEGIN:VCALENDAR
VERSION:2.0
PRODID:-//Library Market//iCal Export//EN
BEGIN:VEVENT
SUMMARY:Summer Library Program Kick-Off Party!
UID:53771
DTSTAMP:20260421T170000Z
DTSTART:20260606T150000Z
DTEND:20260606T200000Z
LOCATION:Mammen Family Public Library, 131 Bulverde Crossing, Bulverde, TX
  78163, United States
ROOM: Rooms A, B, &amp; C combined
DESCRIPTION:Come celebrate the start of this year&#039;s Summer Library Pr
 ogram!Drop-in at the library anytime between 10am - 3pm on Saturday, June 
 6th for sno-cones, popcorn, games, and a craft. Make sure to pre-register 
 for the 2026 Summer Reading Challenge on Beanstack so you can pick up your
  t-shirt, too! Registration will also be available on-site.
URL:https://mammen.librarycalendar.com/event/summer-library-program-kick-p
 arty-53771
END:VEVENT
END:VCALENDAR
